BEGIN:VCALENDAR
VERSION:2.0
PRODID:-//Official Website of Walnut Grove Southern Methodist Church - ECPv6.15.20//NONSGML v1.0//EN
CALSCALE:GREGORIAN
METHOD:PUBLISH
X-WR-CALNAME:Official Website of Walnut Grove Southern Methodist Church
X-ORIGINAL-URL:https://walnutgrovechurchwm.com
X-WR-CALDESC:Events for Official Website of Walnut Grove Southern Methodist Church
REFRESH-INTERVAL;VALUE=DURATION:PT1H
X-Robots-Tag:noindex
X-PUBLISHED-TTL:PT1H
BEGIN:VTIMEZONE
TZID:America/Chicago
BEGIN:DAYLIGHT
TZOFFSETFROM:-0600
TZOFFSETTO:-0500
TZNAME:CDT
DTSTART:20240310T080000
END:DAYLIGHT
BEGIN:STANDARD
TZOFFSETFROM:-0500
TZOFFSETTO:-0600
TZNAME:CST
DTSTART:20241103T070000
END:STANDARD
BEGIN:DAYLIGHT
TZOFFSETFROM:-0600
TZOFFSETTO:-0500
TZNAME:CDT
DTSTART:20250309T080000
END:DAYLIGHT
BEGIN:STANDARD
TZOFFSETFROM:-0500
TZOFFSETTO:-0600
TZNAME:CST
DTSTART:20251102T070000
END:STANDARD
BEGIN:DAYLIGHT
TZOFFSETFROM:-0600
TZOFFSETTO:-0500
TZNAME:CDT
DTSTART:20260308T080000
END:DAYLIGHT
BEGIN:STANDARD
TZOFFSETFROM:-0500
TZOFFSETTO:-0600
TZNAME:CST
DTSTART:20261101T070000
END:STANDARD
END:VTIMEZONE
BEGIN:VEVENT
DTSTART;TZID=America/Chicago:20250622T160000
DTEND;TZID=America/Chicago:20250622T173000
DTSTAMP:20260425T112734
CREATED:20250622T194821Z
LAST-MODIFIED:20250622T194822Z
UID:241-1750608000-1750613400@walnutgrovechurchwm.com
SUMMARY:Women's Missionary Society Meeting - June 22
DESCRIPTION:WMS – June 22\nJoin us at 4 PM at Walnut Grove SMC our monthly Women’s Missionary Society (WMS) meetng. This month\, we’ll just have our devotional and meeting.
URL:https://walnutgrovechurchwm.com/event/womens-missionary-society-meeting-june-22/
LOCATION:Walnut Grove SMC\, 1936 Cooney Bonnett Road\, Eros\, Louisiana\, 71238\, United States
CATEGORIES:WMS
END:VEVENT
BEGIN:VEVENT
DTSTART;TZID=America/Chicago:20250601T160000
DTEND;TZID=America/Chicago:20250601T170000
DTSTAMP:20260425T112734
CREATED:20250531T190843Z
LAST-MODIFIED:20250531T190849Z
UID:196-1748793600-1748797200@walnutgrovechurchwm.com
SUMMARY:Bible Study - June 1
DESCRIPTION:Bible Study June 1\nJoin us at 4 PM at Walnut Grove SMC for an afternoon studying God’s Word. We have classes for men\, women\, teens\, and kids. This is a casual time when we sit around the table and discuss what the Scriptures actually say and how we can apply this to our daily lives. We’d love to enjoy this fellowship with you.
URL:https://walnutgrovechurchwm.com/event/bible-study-june-1/
LOCATION:Walnut Grove SMC\, 1936 Cooney Bonnett Road\, Eros\, Louisiana\, 71238\, United States
CATEGORIES:Bible Study
END:VEVENT
END:VCALENDAR